0.2750000000
0.0000000000
0.0000000000
-0.2750000000
387425.00000000
5359575.00000000
